BEGIN:VCALENDAR
VERSION:2.0
PRODID:-//wp-events-plugin.com//7.2.3.1//EN
TZID:Europe/Berlin
X-WR-TIMEZONE:Europe/Berlin
BEGIN:VEVENT
UID:338@ortsgemeinde-hueffler.de
DTSTART;TZID=Europe/Berlin:20270626T000000
DTEND;TZID=Europe/Berlin:20270626T000000
DTSTAMP:20260211T081933Z
URL:https://ortsgemeinde-hueffler.de/events/familienfeier-106
SUMMARY:Familienfeier
DESCRIPTION:Geburtstag (DS)
CATEGORIES:Belegungsplan,Bistro
END:VEVENT
BEGIN:VTIMEZONE
TZID:Europe/Berlin
X-LIC-LOCATION:Europe/Berlin
BEGIN:DAYLIGHT
DTSTART:20270328T030000
TZOFFSETFROM:+0100
TZOFFSETTO:+0200
TZNAME:CEST
END:DAYLIGHT
END:VTIMEZONE
END:VCALENDAR