BEGIN:VCALENDAR
VERSION:2.0
PRODID:-//wp-events-plugin.com//7.2.3.1//EN
TZID:Europe/Berlin
X-WR-TIMEZONE:Europe/Berlin
BEGIN:VEVENT
UID:339@ortsgemeinde-hueffler.de
DTSTART;TZID=Europe/Berlin:20270326T000000
DTEND;TZID=Europe/Berlin:20270328T000000
DTSTAMP:20260215T150304Z
URL:https://ortsgemeinde-hueffler.de/events/navc-kongress
SUMMARY:NAVC Kongress
DESCRIPTION:MSC WESTPFALZ (tbd)
CATEGORIES:Belegungsplan,gesamtes DGH
END:VEVENT
BEGIN:VTIMEZONE
TZID:Europe/Berlin
X-LIC-LOCATION:Europe/Berlin
BEGIN:STANDARD
DTSTART:20261025T020000
TZOFFSETFROM:+0200
TZOFFSETTO:+0100
TZNAME:CET
END:STANDARD
END:VTIMEZONE
END:VCALENDAR