BEGIN:VCALENDAR
VERSION:2.0
PRODID:-//wp-events-plugin.com//7.2.3.1//EN
TZID:Europe/Berlin
X-WR-TIMEZONE:Europe/Berlin
BEGIN:VEVENT
UID:340@ortsgemeinde-hueffler.de
DTSTART;TZID=Europe/Berlin:20261204T000000
DTEND;TZID=Europe/Berlin:20261204T234500
DTSTAMP:20260225T122243Z
URL:https://ortsgemeinde-hueffler.de/events/weihnachtsfeier-15
SUMMARY:Weihnachtsfeier
DESCRIPTION:VDK
CATEGORIES:Belegungsplan,gesamtes Obergeschoss
END:VEVENT
BEGIN:VTIMEZONE
TZID:Europe/Berlin
X-LIC-LOCATION:Europe/Berlin
BEGIN:STANDARD
DTSTART:20261025T020000
TZOFFSETFROM:+0200
TZOFFSETTO:+0100
TZNAME:CET
END:STANDARD
END:VTIMEZONE
END:VCALENDAR